BEGIN:VCALENDAR
VERSION:2.0
PRODID:spatie/icalendar-generator
DESCRIPTION:Veranstaltungen von Zoom Eulenspiegel
X-WR-CALDESC:Veranstaltungen von Zoom Eulenspiegel
REFRESH-INTERVAL;VALUE=DURATION:PT1440M
X-PUBLISHED-TTL:PT1440M
BEGIN:VTIMEZONE
TZID:Etc/GMT+0
BEGIN:STANDARD
DTSTART:20250202T200000Z
TZOFFSETFROM:+0000
TZOFFSETTO:+0000
END:STANDARD
END:VTIMEZONE
BEGIN:VTIMEZONE
TZID:UTC
BEGIN:STANDARD
DTSTART:20250724T193330Z
TZOFFSETFROM:+0000
TZOFFSETTO:+0000
END:STANDARD
END:VTIMEZONE
BEGIN:VEVENT
UID:42-2
DTSTAMP:20260420T193330Z
SUMMARY:Karaoke
LOCATION:
ORGANIZER;CN=admin:MAILTO:juliusmattis1@gmail.com
RRULE:FREQ=WEEKLY;UNTIL=20251231T000000Z
DTSTART;TZID=Etc/GMT+0:20251030T200000
DTEND;TZID=Etc/GMT+0:20251030T210000
X-ALT-DESC;FMTTYPE=TEXT/HTML:
CATEGORIES:General
URL;VALUE=URI:https://zoom-eulenspiegel.de/mc-events/karaoke/?mc_id=42
METHOD:PUBLISH
END:VEVENT
END:VCALENDAR